BEGIN:VCALENDAR
VERSION:2.0
PRODID:-//Raad van Kerken Ede - ECPv6.15.17.1//NONSGML v1.0//EN
CALSCALE:GREGORIAN
METHOD:PUBLISH
X-WR-CALNAME:Raad van Kerken Ede
X-ORIGINAL-URL:https://raadvankerkenede.nl
X-WR-CALDESC:Evenementen voor Raad van Kerken Ede
REFRESH-INTERVAL;VALUE=DURATION:PT1H
X-Robots-Tag:noindex
X-PUBLISHED-TTL:PT1H
BEGIN:VTIMEZONE
TZID:Europe/Amsterdam
BEGIN:DAYLIGHT
TZOFFSETFROM:+0100
TZOFFSETTO:+0200
TZNAME:CEST
DTSTART:20240331T010000
END:DAYLIGHT
BEGIN:STANDARD
TZOFFSETFROM:+0200
TZOFFSETTO:+0100
TZNAME:CET
DTSTART:20241027T010000
END:STANDARD
BEGIN:DAYLIGHT
TZOFFSETFROM:+0100
TZOFFSETTO:+0200
TZNAME:CEST
DTSTART:20250330T010000
END:DAYLIGHT
BEGIN:STANDARD
TZOFFSETFROM:+0200
TZOFFSETTO:+0100
TZNAME:CET
DTSTART:20251026T010000
END:STANDARD
BEGIN:DAYLIGHT
TZOFFSETFROM:+0100
TZOFFSETTO:+0200
TZNAME:CEST
DTSTART:20260329T010000
END:DAYLIGHT
BEGIN:STANDARD
TZOFFSETFROM:+0200
TZOFFSETTO:+0100
TZNAME:CET
DTSTART:20261025T010000
END:STANDARD
BEGIN:DAYLIGHT
TZOFFSETFROM:+0100
TZOFFSETTO:+0200
TZNAME:CEST
DTSTART:20270328T010000
END:DAYLIGHT
BEGIN:STANDARD
TZOFFSETFROM:+0200
TZOFFSETTO:+0100
TZNAME:CET
DTSTART:20271031T010000
END:STANDARD
END:VTIMEZONE
BEGIN:VEVENT
DTSTART;TZID=Europe/Amsterdam:20260412T190000
DTEND;TZID=Europe/Amsterdam:20260412T200000
DTSTAMP:20260421T114316
CREATED:20260105T095128Z
LAST-MODIFIED:20260105T095128Z
UID:1091-1776020400-1776024000@raadvankerkenede.nl
SUMMARY:Taizé viering
DESCRIPTION:
URL:https://raadvankerkenede.nl/event/taize-viering-6/
LOCATION:Beatrixkerk\, Beatrixlaan 54\, Ede\, Netherlands
CATEGORIES:Raad van Kerken Ede
END:VEVENT
BEGIN:VEVENT
DTSTART;TZID=Europe/Amsterdam:20260308T190000
DTEND;TZID=Europe/Amsterdam:20260308T200000
DTSTAMP:20260421T114316
CREATED:20260105T095043Z
LAST-MODIFIED:20260105T095043Z
UID:1089-1772996400-1773000000@raadvankerkenede.nl
SUMMARY:Taizé viering
DESCRIPTION:
URL:https://raadvankerkenede.nl/event/taize-viering-5/
LOCATION:Beatrixkerk\, Beatrixlaan 54\, Ede\, Netherlands
CATEGORIES:Raad van Kerken Ede
END:VEVENT
BEGIN:VEVENT
DTSTART;TZID=Europe/Amsterdam:20260306T190000
DTEND;TZID=Europe/Amsterdam:20260306T200000
DTSTAMP:20260421T114316
CREATED:20260108T155953Z
LAST-MODIFIED:20260211T113220Z
UID:1112-1772823600-1772827200@raadvankerkenede.nl
SUMMARY:Wereldgebedsdag 2026
DESCRIPTION:Al jarenlang bestaat in vele landen de traditie \, dat op de eerste vrijdag van maart  door christenen over de gehele wereld wordt gebeden voor vrede en gerechtigheid. \n  \nElk jaar wordt door de organisatie van een land een thema opgezet\, en de landelijke organisaties werken dat uit in een liturgie\, waarin zingen\, bidden en overdenken centraal staan.  De oorsprong ligt in de wereldwijde inzet van vrouwenbewegingen om te strijden voor een rechtvaardige samenleving. Op de wereldconferentie van 2017 in Brazilië werd Nigeria als land voor 2026 gekozen. \nLeden van de werkgroep vieringen van de Raad van Kerken Ede en diverse musici  werken aan de viering mee. Na afloop is er gelegenheid tot ontmoeting en napraten onder genot van koffie of thee. Zie ook het persbericht.
URL:https://raadvankerkenede.nl/event/wereldgebedsdag-2026/
LOCATION:Proosdijkerk\, Veenderweg 193\, Ede\, Netherlands
CATEGORIES:Raad van Kerken Ede
END:VEVENT
BEGIN:VEVENT
DTSTART;TZID=Europe/Amsterdam:20260208T190000
DTEND;TZID=Europe/Amsterdam:20260208T200000
DTSTAMP:20260421T114316
CREATED:20260105T094949Z
LAST-MODIFIED:20260105T094949Z
UID:1087-1770577200-1770580800@raadvankerkenede.nl
SUMMARY:Taizé viering
DESCRIPTION:
URL:https://raadvankerkenede.nl/event/taize-viering-4/
LOCATION:Beatrixkerk\, Beatrixlaan 54\, Ede\, Netherlands
CATEGORIES:Raad van Kerken Ede
END:VEVENT
BEGIN:VEVENT
DTSTART;TZID=Europe/Amsterdam:20260125T150000
DTEND;TZID=Europe/Amsterdam:20260125T170000
DTSTAMP:20260421T114316
CREATED:20260108T132034Z
LAST-MODIFIED:20260108T132034Z
UID:1108-1769353200-1769360400@raadvankerkenede.nl
SUMMARY:Themamiddag De Vraag van de Vreemdeling
DESCRIPTION:Basisgemeente Exodus organiseert op zondag 25 januari 2026 van 15 tot 17 uur een themamiddag “De Vraag van de Vreemdeling” in het Ericatheather. Prof. dr. Laurens ten Kate houdt een interactieve lezing. Voor meer informatie: zie de flyer.
URL:https://raadvankerkenede.nl/event/themamiddag-de-vraag-van-de-vreemdeling/
LOCATION:Ericatheater\, Ericalaan 1\, Ede\, 6711 MZ\, Netherlands
CATEGORIES:Activiteiten leden
ORGANIZER;CN="Liesbeth Blanken":MAILTO:Liesbethblanken@gmail.com
END:VEVENT
BEGIN:VEVENT
DTSTART;TZID=Europe/Amsterdam:20260124T200000
DTEND;TZID=Europe/Amsterdam:20260124T210000
DTSTAMP:20260421T114316
CREATED:20260105T094151Z
LAST-MODIFIED:20260105T094151Z
UID:1070-1769284800-1769288400@raadvankerkenede.nl
SUMMARY:Week van Gebed 2026 - Gebedsmoment
DESCRIPTION:
URL:https://raadvankerkenede.nl/event/week-van-gebed-2026-gebedsmoment-6/
LOCATION:Gebouw de Wissel\, Bettekamp 99\, Ede\, 6712 EJ\, Netherlands
END:VEVENT
BEGIN:VEVENT
DTSTART;TZID=Europe/Amsterdam:20260124T083000
DTEND;TZID=Europe/Amsterdam:20260124T090000
DTSTAMP:20260421T114316
CREATED:20260105T094620Z
LAST-MODIFIED:20260105T094620Z
UID:1083-1769243400-1769245200@raadvankerkenede.nl
SUMMARY:Week van Gebed 2026 - Gebedsmoment
DESCRIPTION:
URL:https://raadvankerkenede.nl/event/week-van-gebed-2026-gebedsmoment-12/
LOCATION:De Ark\, Heijendaal 10\, Ede\, 6715 JM\, Netherlands
CATEGORIES:Activiteiten leden
END:VEVENT
BEGIN:VEVENT
DTSTART;TZID=Europe/Amsterdam:20260123T200000
DTEND;TZID=Europe/Amsterdam:20260123T210000
DTSTAMP:20260421T114316
CREATED:20260105T094112Z
LAST-MODIFIED:20260105T094112Z
UID:1068-1769198400-1769202000@raadvankerkenede.nl
SUMMARY:Week van Gebed 2026 - Gebedsmoment
DESCRIPTION:
URL:https://raadvankerkenede.nl/event/week-van-gebed-2026-gebedsmoment-5/
LOCATION:Gebouw de Wissel\, Bettekamp 99\, Ede\, 6712 EJ\, Netherlands
END:VEVENT
BEGIN:VEVENT
DTSTART;TZID=Europe/Amsterdam:20260123T083000
DTEND;TZID=Europe/Amsterdam:20260123T090000
DTSTAMP:20260421T114316
CREATED:20260105T094548Z
LAST-MODIFIED:20260105T094548Z
UID:1081-1769157000-1769158800@raadvankerkenede.nl
SUMMARY:Week van Gebed 2026 - Gebedsmoment
DESCRIPTION:
URL:https://raadvankerkenede.nl/event/week-van-gebed-2026-gebedsmoment-11/
LOCATION:De Ark\, Heijendaal 10\, Ede\, 6715 JM\, Netherlands
CATEGORIES:Activiteiten leden
END:VEVENT
BEGIN:VEVENT
DTSTART;TZID=Europe/Amsterdam:20260122T200000
DTEND;TZID=Europe/Amsterdam:20260122T210000
DTSTAMP:20260421T114316
CREATED:20260105T094038Z
LAST-MODIFIED:20260105T094038Z
UID:1066-1769112000-1769115600@raadvankerkenede.nl
SUMMARY:Week van Gebed 2026 - Gebedsmoment
DESCRIPTION:
URL:https://raadvankerkenede.nl/event/week-van-gebed-2026-gebedsmoment-4/
LOCATION:Gebouw de Wissel\, Bettekamp 99\, Ede\, 6712 EJ\, Netherlands
END:VEVENT
BEGIN:VEVENT
DTSTART;TZID=Europe/Amsterdam:20260122T083000
DTEND;TZID=Europe/Amsterdam:20260122T090000
DTSTAMP:20260421T114316
CREATED:20260105T094523Z
LAST-MODIFIED:20260105T094523Z
UID:1079-1769070600-1769072400@raadvankerkenede.nl
SUMMARY:Week van Gebed 2026 - Gebedsmoment
DESCRIPTION:
URL:https://raadvankerkenede.nl/event/week-van-gebed-2026-gebedsmoment-10/
LOCATION:De Ark\, Heijendaal 10\, Ede\, 6715 JM\, Netherlands
CATEGORIES:Activiteiten leden
END:VEVENT
BEGIN:VEVENT
DTSTART;TZID=Europe/Amsterdam:20260121T200000
DTEND;TZID=Europe/Amsterdam:20260121T210000
DTSTAMP:20260421T114316
CREATED:20260105T093950Z
LAST-MODIFIED:20260105T093950Z
UID:1064-1769025600-1769029200@raadvankerkenede.nl
SUMMARY:Week van Gebed 2026 - Gebedsmoment
DESCRIPTION:
URL:https://raadvankerkenede.nl/event/week-van-gebed-2026-gebedsmoment-3/
LOCATION:Gebouw de Wissel\, Bettekamp 99\, Ede\, 6712 EJ\, Netherlands
END:VEVENT
BEGIN:VEVENT
DTSTART;TZID=Europe/Amsterdam:20260121T083000
DTEND;TZID=Europe/Amsterdam:20260121T090000
DTSTAMP:20260421T114316
CREATED:20260105T094455Z
LAST-MODIFIED:20260105T094455Z
UID:1077-1768984200-1768986000@raadvankerkenede.nl
SUMMARY:Week van Gebed 2026 - Gebedsmoment
DESCRIPTION:
URL:https://raadvankerkenede.nl/event/week-van-gebed-2026-gebedsmoment-9/
LOCATION:De Ark\, Heijendaal 10\, Ede\, 6715 JM\, Netherlands
CATEGORIES:Activiteiten leden
END:VEVENT
BEGIN:VEVENT
DTSTART;TZID=Europe/Amsterdam:20260120T200000
DTEND;TZID=Europe/Amsterdam:20260120T210000
DTSTAMP:20260421T114316
CREATED:20260105T093911Z
LAST-MODIFIED:20260105T093911Z
UID:1062-1768939200-1768942800@raadvankerkenede.nl
SUMMARY:Week van Gebed 2026 - Gebedsmoment
DESCRIPTION:
URL:https://raadvankerkenede.nl/event/week-van-gebed-2026-gebedsmoment-2/
LOCATION:Gebouw de Wissel\, Bettekamp 99\, Ede\, 6712 EJ\, Netherlands
END:VEVENT
BEGIN:VEVENT
DTSTART;TZID=Europe/Amsterdam:20260120T083000
DTEND;TZID=Europe/Amsterdam:20260120T090000
DTSTAMP:20260421T114316
CREATED:20260105T094419Z
LAST-MODIFIED:20260105T094428Z
UID:1075-1768897800-1768899600@raadvankerkenede.nl
SUMMARY:Week van Gebed 2026 - Gebedsmoment
DESCRIPTION:
URL:https://raadvankerkenede.nl/event/week-van-gebed-2026-gebedsmoment-8/
LOCATION:De Ark\, Heijendaal 10\, Ede\, 6715 JM\, Netherlands
CATEGORIES:Activiteiten leden
END:VEVENT
BEGIN:VEVENT
DTSTART;TZID=Europe/Amsterdam:20260119T200000
DTEND;TZID=Europe/Amsterdam:20260119T210000
DTSTAMP:20260421T114316
CREATED:20260105T093522Z
LAST-MODIFIED:20260105T093522Z
UID:1059-1768852800-1768856400@raadvankerkenede.nl
SUMMARY:Week van Gebed 2026 - gebedsmoment
DESCRIPTION:
URL:https://raadvankerkenede.nl/event/week-van-gebed-2026-gebedsmoment/
LOCATION:Gebouw de Wissel\, Bettekamp 99\, Ede\, 6712 EJ\, Netherlands
END:VEVENT
BEGIN:VEVENT
DTSTART;TZID=Europe/Amsterdam:20260119T083000
DTEND;TZID=Europe/Amsterdam:20260119T090000
DTSTAMP:20260421T114316
CREATED:20260105T094353Z
LAST-MODIFIED:20260105T094353Z
UID:1072-1768811400-1768813200@raadvankerkenede.nl
SUMMARY:Week van Gebed 2026 - Gebedsmoment
DESCRIPTION:
URL:https://raadvankerkenede.nl/event/week-van-gebed-2026-gebedsmoment-7/
LOCATION:De Ark\, Heijendaal 10\, Ede\, 6715 JM\, Netherlands
CATEGORIES:Activiteiten leden
END:VEVENT
BEGIN:VEVENT
DTSTART;TZID=Europe/Amsterdam:20260118T190000
DTEND;TZID=Europe/Amsterdam:20260118T200000
DTSTAMP:20260421T114316
CREATED:20260105T093028Z
LAST-MODIFIED:20260105T093202Z
UID:1053-1768762800-1768766400@raadvankerkenede.nl
SUMMARY:Week van Gebed 2026 - Opening
DESCRIPTION:Meditatie wordt verzorgd door mevr. Anneke Bos van de Proosdijkerk (NGK). Vertegenwoordigers van de Raad van Kerken Ede werken mee aan de viering.
URL:https://raadvankerkenede.nl/event/week-van-gebed-2026-opening/
LOCATION:Emmaüs\, Laan der Verenigde Naties 94\, Ede\, 6716 JE\, Netherlands
CATEGORIES:Raad van Kerken Ede
END:VEVENT
BEGIN:VEVENT
DTSTART;TZID=Europe/Amsterdam:20260111T190000
DTEND;TZID=Europe/Amsterdam:20260111T200000
DTSTAMP:20260421T114316
CREATED:20260105T094854Z
LAST-MODIFIED:20260105T094854Z
UID:1085-1768158000-1768161600@raadvankerkenede.nl
SUMMARY:Taizé viering
DESCRIPTION:
URL:https://raadvankerkenede.nl/event/taize-viering-3/
LOCATION:Beatrixkerk\, Beatrixlaan 54\, Ede\, Netherlands
CATEGORIES:Raad van Kerken Ede
END:VEVENT
BEGIN:VEVENT
DTSTART;TZID=Europe/Amsterdam:20251109T190000
DTEND;TZID=Europe/Amsterdam:20251109T200000
DTSTAMP:20260421T114316
CREATED:20251002T170428Z
LAST-MODIFIED:20251002T170428Z
UID:1002-1762714800-1762718400@raadvankerkenede.nl
SUMMARY:Taize viering
DESCRIPTION:
URL:https://raadvankerkenede.nl/event/taize-viering-2/
LOCATION:Beatrixkerk\, Beatrixlaan 54\, Ede\, Netherlands
CATEGORIES:Raad van Kerken Ede
END:VEVENT
BEGIN:VEVENT
DTSTART;TZID=Europe/Amsterdam:20251012T190000
DTEND;TZID=Europe/Amsterdam:20251012T200000
DTSTAMP:20260421T114316
CREATED:20251002T165956Z
LAST-MODIFIED:20251002T170328Z
UID:998-1760295600-1760299200@raadvankerkenede.nl
SUMMARY:Taize viering
DESCRIPTION:
URL:https://raadvankerkenede.nl/event/taize-viering/
LOCATION:Beatrixkerk\, Beatrixlaan 54\, Ede\, Netherlands
CATEGORIES:Raad van Kerken Ede
END:VEVENT
END:VCALENDAR